BEGIN:VCALENDAR
VERSION:2.0
PRODID:-//Simon Parcot - ECPv6.15.20//NONSGML v1.0//EN
CALSCALE:GREGORIAN
METHOD:PUBLISH
X-WR-CALNAME:Simon Parcot
X-ORIGINAL-URL:https://randosphilos.fr
X-WR-CALDESC:Évènements pour Simon Parcot
REFRESH-INTERVAL;VALUE=DURATION:PT1H
X-Robots-Tag:noindex
X-PUBLISHED-TTL:PT1H
BEGIN:VTIMEZONE
TZID:Europe/Zurich
BEGIN:DAYLIGHT
TZOFFSETFROM:+0100
TZOFFSETTO:+0200
TZNAME:CEST
DTSTART:20210328T010000
END:DAYLIGHT
BEGIN:STANDARD
TZOFFSETFROM:+0200
TZOFFSETTO:+0100
TZNAME:CET
DTSTART:20211031T010000
END:STANDARD
BEGIN:DAYLIGHT
TZOFFSETFROM:+0100
TZOFFSETTO:+0200
TZNAME:CEST
DTSTART:20220327T010000
END:DAYLIGHT
BEGIN:STANDARD
TZOFFSETFROM:+0200
TZOFFSETTO:+0100
TZNAME:CET
DTSTART:20221030T010000
END:STANDARD
BEGIN:DAYLIGHT
TZOFFSETFROM:+0100
TZOFFSETTO:+0200
TZNAME:CEST
DTSTART:20230326T010000
END:DAYLIGHT
BEGIN:STANDARD
TZOFFSETFROM:+0200
TZOFFSETTO:+0100
TZNAME:CET
DTSTART:20231029T010000
END:STANDARD
END:VTIMEZONE
BEGIN:VEVENT
DTSTART;TZID=Europe/Zurich:20220811T143000
DTEND;TZID=Europe/Zurich:20220811T163000
DTSTAMP:20260423T123529
CREATED:20220710T141421Z
LAST-MODIFIED:20220710T141421Z
UID:30426-1660228200-1660235400@randosphilos.fr
SUMMARY:La folie des hauteurs\, histoires d'hallucinations en altitude (balade contée)
DESCRIPTION:balade contée \n14h30 – 16h30 \nDépart Centre Estival du Collet\n38114 Vaujany \nA partir de 10 ans \ngratuit \nréservations au : 04 76 80 77 08 \nPlus d’infos sur la balade : \nRando-contée – La folie des hauteurs \n \nOU : https://www.vaujany.com/fr/evenements/promenade-philosophique-la-folie-des-hauteurs-chroniques-dhallucinations-daltitude/ \n 
URL:https://randosphilos.fr/agenda/la-folie-des-hauteurs-histoires-dhallucinations-en-altitude-balade-contee/
LOCATION:Vaujany (38)
ATTACH;FMTTYPE=image/jpeg:https://randosphilos.fr/wp-content/uploads/2021/04/image-projet-2-_-source_ama-dablam-base-camp_@gesmantamang_instagram.jpg
END:VEVENT
BEGIN:VEVENT
DTSTART;TZID=Europe/Zurich:20220812T140000
DTEND;TZID=Europe/Zurich:20220812T160000
DTSTAMP:20260423T123529
CREATED:20220710T141736Z
LAST-MODIFIED:20220710T141736Z
UID:30428-1660312800-1660320000@randosphilos.fr
SUMMARY:Je bouge donc je suis ? philo du nomadisme
DESCRIPTION:Départ 14h \nmédiathèque de l’alpe d’huez \n57 route du Coulet\n38750 Alpe d’Huez \nDurée 2h \nA partir de 10 ans \nGratuit \nréservations au  04 76 79 57 69 ou par mail :\nbibliotheque@mairie-alpedhuez.fr \nen savoir plus sur le contenu : \nhttps://randosphilos.fr/30302-2/
URL:https://randosphilos.fr/agenda/je-bouge-donc-je-suis-philo-du-nomadisme/
LOCATION:Alpe d’huez\, 57 route du Coulet 38750 Alpe d'Huez
ATTACH;FMTTYPE=image/jpeg:https://randosphilos.fr/wp-content/uploads/2021/12/roulotte-3.jpg
END:VEVENT
BEGIN:VEVENT
DTSTART;TZID=Europe/Zurich:20220821T140000
DTEND;TZID=Europe/Zurich:20220821T170000
DTSTAMP:20260423T123529
CREATED:20220710T142548Z
LAST-MODIFIED:20220710T142548Z
UID:30430-1661090400-1661101200@randosphilos.fr
SUMMARY:Balade philo musicale (Diane et Actéon)
DESCRIPTION:balade philo inédite dans le cadre du festival des randonnées musicales. \nEn compagnie de Clément (AMM) et Simon L (musicien) \nDépart 14 h du parking de Clavans le Haut (38) \nDurée : 3h \ngratuit \nréservations au 06 30 93 53 19 ou 06 47 53 88 55 ou asso.frm@hotmail.fr \n 
URL:https://randosphilos.fr/agenda/balade-philo-musicale-diane-et-acteon/
LOCATION:Clavans (38)
ATTACH;FMTTYPE=image/jpeg:https://randosphilos.fr/wp-content/uploads/2021/10/ete-2021-6.jpg
END:VEVENT
BEGIN:VEVENT
DTSTART;TZID=Europe/Zurich:20220823T140000
DTEND;TZID=Europe/Zurich:20220823T170000
DTSTAMP:20260423T123529
CREATED:20220710T143157Z
LAST-MODIFIED:20220710T143157Z
UID:30434-1661263200-1661274000@randosphilos.fr
SUMMARY:La folie des hauteurs\, histoires d'hallucinations en altitude (balade contée)
DESCRIPTION:balade contée au départ de la Cordée (Saint Christophe en Oisans) \n14h – 17h \nà partir de 10 ans \nGratuit \nréservations au 06 72 36 10 91  ou avec@saint-christophe-en-oisans.fr
URL:https://randosphilos.fr/agenda/la-folie-des-hauteurs-histoires-dhallucinations-en-altitude-balade-contee-2/
LOCATION:La Cordée\, Saint Christophe en Oisans
ATTACH;FMTTYPE=application/pdf:https://randosphilos.fr/wp-content/uploads/2022/07/Affiche-Balade-Philo-23.08-VF.pdf
END:VEVENT
BEGIN:VEVENT
DTSTART;TZID=Europe/Zurich:20220826T180000
DTEND;TZID=Europe/Zurich:20220826T210000
DTSTAMP:20260423T123529
CREATED:20220710T143431Z
LAST-MODIFIED:20220730T105030Z
UID:30437-1661536800-1661547600@randosphilos.fr
SUMMARY:SOIREE DE SORTIE DU BORD DU MONDE EST VERTICAL (ed. Le Mot et le reste)
DESCRIPTION:Soirée inédite de présentation de mon premier roman le Bord du monde est vertical (Ed. Le Mot et le reste). \n17 h : dédicaces à la Cordée (St Christophe en Oisans) \n18h : conférence autour du livre \n19h30 : dédicaces et apéritif
URL:https://randosphilos.fr/agenda/soiree-de-sortie-du-bord-du-monde-est-vertical-ed-le-mot-et-le-reste/
LOCATION:La Cordée\, Saint Christophe en Oisans
ATTACH;FMTTYPE=application/pdf:https://randosphilos.fr/wp-content/uploads/2022/07/Lancement-Parcot_haute-def.pdf
END:VEVENT
END:VCALENDAR