BEGIN:VCALENDAR
VERSION:2.0
PRODID:-//Simon Parcot - ECPv6.15.20//NONSGML v1.0//EN
CALSCALE:GREGORIAN
METHOD:PUBLISH
X-WR-CALNAME:Simon Parcot
X-ORIGINAL-URL:https://randosphilos.fr
X-WR-CALDESC:Évènements pour Simon Parcot
REFRESH-INTERVAL;VALUE=DURATION:PT1H
X-Robots-Tag:noindex
X-PUBLISHED-TTL:PT1H
BEGIN:VTIMEZONE
TZID:Europe/Zurich
BEGIN:DAYLIGHT
TZOFFSETFROM:+0100
TZOFFSETTO:+0200
TZNAME:CEST
DTSTART:20210328T010000
END:DAYLIGHT
BEGIN:STANDARD
TZOFFSETFROM:+0200
TZOFFSETTO:+0100
TZNAME:CET
DTSTART:20211031T010000
END:STANDARD
BEGIN:DAYLIGHT
TZOFFSETFROM:+0100
TZOFFSETTO:+0200
TZNAME:CEST
DTSTART:20220327T010000
END:DAYLIGHT
BEGIN:STANDARD
TZOFFSETFROM:+0200
TZOFFSETTO:+0100
TZNAME:CET
DTSTART:20221030T010000
END:STANDARD
BEGIN:DAYLIGHT
TZOFFSETFROM:+0100
TZOFFSETTO:+0200
TZNAME:CEST
DTSTART:20230326T010000
END:DAYLIGHT
BEGIN:STANDARD
TZOFFSETFROM:+0200
TZOFFSETTO:+0100
TZNAME:CET
DTSTART:20231029T010000
END:STANDARD
END:VTIMEZONE
BEGIN:VEVENT
DTSTART;TZID=Europe/Zurich:20220717T140000
DTEND;TZID=Europe/Zurich:20220717T160000
DTSTAMP:20260421T162550
CREATED:20220710T133701Z
LAST-MODIFIED:20220710T133701Z
UID:30401-1658066400-1658073600@randosphilos.fr
SUMMARY:Pourquoi grimper sur les montagnes ? Philo de l'alpinisme
DESCRIPTION:Intervention dans le cadre de la fête des guides de la bérarde (38) \nBalade démo d’environ 1h30-2h en direction du refuge du carrelet \ndépart entre 14 et 15 h \ngratuit \nà partir de 12 ans \nrésas au 06 47 53 88 55 \nplus d’infos sur le contenu de la balade ici : \nPourquoi grimpons-nous sur les montagnes ?
URL:https://randosphilos.fr/agenda/pourquoi-grimper-sur-les-montagnes-philo-de-lalpinisme/
LOCATION:Bérarde (38)
ATTACH;FMTTYPE=image/jpeg:https://randosphilos.fr/wp-content/uploads/2020/12/9954a07edd6438ccdfb03e82eb494c79.jpg
END:VEVENT
BEGIN:VEVENT
DTSTART;TZID=Europe/Zurich:20220719T140000
DTEND;TZID=Europe/Zurich:20220719T160000
DTSTAMP:20260421T162550
CREATED:20220710T134231Z
LAST-MODIFIED:20220710T134247Z
UID:30405-1658239200-1658246400@randosphilos.fr
SUMMARY:La folie des hauteurs\, histoires d'hallucinations en haute altitude (balade contée)
DESCRIPTION:Balade contée au départ de la médiathèque de l’alpe d’huez \n57 route du Coulet\n38750 Alpe d’Huez \nDépart 14h \nDurée 2h \nA partir de 10 ans \nGratuit \nréservations au  04 76 79 57 69 ou par mail :\nbibliotheque@mairie-alpedhuez.fr \nen savoir plus sur le contenu : \nRando-contée – La folie des hauteurs
URL:https://randosphilos.fr/agenda/la-folie-des-hauteurs-histoire-dhallucination-en-haute-altitude-balade-contee/
LOCATION:Alpe d’huez\, 57 route du Coulet 38750 Alpe d'Huez
ATTACH;FMTTYPE=image/jpeg:https://randosphilos.fr/wp-content/uploads/2021/03/source-maximiliangierl.jpg
END:VEVENT
BEGIN:VEVENT
DTSTART;TZID=Europe/Zurich:20220720T140000
DTEND;TZID=Europe/Zurich:20220720T170000
DTSTAMP:20260421T162550
CREATED:20220710T134836Z
LAST-MODIFIED:20220710T134836Z
UID:30410-1658325600-1658336400@randosphilos.fr
SUMMARY:Faut-il vraiment travailler ?
DESCRIPTION:Balade philo inédite sur le travail ! \nDépart 14 h de la bibliothèque de Venosc Village (mairie annexe) \nDurée : 3 h \nGratuit \nConseillée à partir de 13 ans \nréservations au 04 76 80 56 64 ou mail : bibliotheque.lardoisiere@mairie2alpes.fr \n  \nplus d’infos sur la balade : \nhttps://randosphilos.fr/30307-2/
URL:https://randosphilos.fr/agenda/faut-il-vraiment-travailler/
LOCATION:Venosc (38)\, Le courtil\, 5 rue du cable 38520 VENOSC
ATTACH;FMTTYPE=image/jpeg:https://randosphilos.fr/wp-content/uploads/2021/12/Chaplin.jpg
END:VEVENT
BEGIN:VEVENT
DTSTART;TZID=Europe/Zurich:20220721T143000
DTEND;TZID=Europe/Zurich:20220721T163000
DTSTAMP:20260421T162550
CREATED:20220710T135242Z
LAST-MODIFIED:20220710T135242Z
UID:30414-1658413800-1658421000@randosphilos.fr
SUMMARY:Pourquoi grimper sur les montagnes ? Philo de l'alpinisme
DESCRIPTION:14h30 – 16h30 \nDépart Centre Estival du Collet\n38114 Vaujany \nA partir de 10 ans \ngratuit \nréservations au : 04 76 80 77 08 \nPlus d’infos sur la balade : \nPourquoi grimpons-nous sur les montagnes ? \n \n 
URL:https://randosphilos.fr/agenda/pourquoi-grimper-sur-les-montagnes-philo-de-lalpinisme-2/
LOCATION:Vaujany (38)
ATTACH;FMTTYPE=image/jpeg:https://randosphilos.fr/wp-content/uploads/2021/01/image-projet-4_.jpg
END:VEVENT
BEGIN:VEVENT
DTSTART;TZID=Europe/Zurich:20220722T153000
DTEND;TZID=Europe/Zurich:20220722T173000
DTSTAMP:20260421T162550
CREATED:20220710T133000Z
LAST-MODIFIED:20220720T095835Z
UID:30397-1658503800-1658511000@randosphilos.fr
SUMMARY:A la recherche du sauvage
DESCRIPTION:Balade philo organisée dans le cadre du festival Traversées (https://www.traversees.net/) \nDurée : 2h30 \nDépart : 15H \, centre de la Bérarde (38) \nA partir de 13 ans \nPrix : 12 € \nRESERVATIONS AU 06 47 53 88 55 ou 07 83 15 11 12 \nplus d’infos sur la balade ici : \nA la recherche du sauvage
URL:https://randosphilos.fr/agenda/a-la-recherche-du-sauvage/
LOCATION:Bérarde\, 38
ATTACH;FMTTYPE=image/jpeg:https://randosphilos.fr/wp-content/uploads/2020/12/William-turner.jpg
END:VEVENT
BEGIN:VEVENT
DTSTART;TZID=Europe/Zurich:20220723T140000
DTEND;TZID=Europe/Zurich:20220723T150000
DTSTAMP:20260421T162550
CREATED:20220710T135642Z
LAST-MODIFIED:20220710T135642Z
UID:30417-1658584800-1658588400@randosphilos.fr
SUMMARY:Lectures d'extraits du Bord du monde est vertical (festival traversées\, la Bérarde)
DESCRIPTION:Lecture en avant première de mon premier roman Le Bord du monde est vertical (ed.Le mot et le reste\, parution Aout 2022) dans la Bérarde à 14h. \nPlus d’infos sur la programmation ici : https://www.traversees.net/
URL:https://randosphilos.fr/agenda/lectures-dextraits-du-bord-du-monde-est-vertical-festival-traversees-la-berarde/
LOCATION:Bérarde (38)
ATTACH;FMTTYPE=image/jpeg:https://randosphilos.fr/wp-content/uploads/2022/07/Le-bord-du-monde-est-vertical.jpg
END:VEVENT
BEGIN:VEVENT
DTSTART;TZID=Europe/Zurich:20220724T130000
DTEND;TZID=Europe/Zurich:20220724T150000
DTSTAMP:20260421T162550
CREATED:20220710T140100Z
LAST-MODIFIED:20220710T140100Z
UID:30420-1658667600-1658674800@randosphilos.fr
SUMMARY:Sauvages sauvageries du Vénéon - regards croisés Simon Parcot et Forbes
DESCRIPTION:Conférence au refuge du Carrelet (Bérarde\, 38\, chemin de Temple écrin) sur l’univers du Bord du monde et celui de James Forbes. \n13h30 \n8€ \nInfos : https://www.traversees.net/ \n 
URL:https://randosphilos.fr/agenda/sauvages-sauvageries-du-veneon-regards-croises-simon-parcot-et-forbes/
LOCATION:Bérarde (38)
ATTACH;FMTTYPE=image/jpeg:https://randosphilos.fr/wp-content/uploads/2022/07/Carreket.jpg
END:VEVENT
BEGIN:VEVENT
DTSTART;TZID=Europe/Zurich:20220725T100000
DTEND;TZID=Europe/Zurich:20220725T120000
DTSTAMP:20260421T162550
CREATED:20220710T140742Z
LAST-MODIFIED:20220710T140742Z
UID:30423-1658743200-1658750400@randosphilos.fr
SUMMARY:Le voyage\, c'est quoi ? Petite philo du voyage
DESCRIPTION:Départ 10h des Gaufrettes à Allemond (155 route de savoie 38114 Allemond) \nRetour vers 12h30 – 13h \n15 € / personne \nrésas au 06 47 53 88 55 ou 09 63 68 89 28 \nà partir de 12 ans \nplus d’infos ici : \nVoyager\, c’est quoi ?
URL:https://randosphilos.fr/agenda/le-voyage-cest-quoi-petite-philo-du-voyage/
LOCATION:Allemond (38)\, 155 route de savoie 38114 Allemond
ATTACH;FMTTYPE=image/jpeg:https://randosphilos.fr/wp-content/uploads/2021/12/gitans.jpg
END:VEVENT
END:VCALENDAR