BEGIN:VCALENDAR
VERSION:2.0
PRODID:-//Simon Parcot - ECPv6.15.20//NONSGML v1.0//EN
CALSCALE:GREGORIAN
METHOD:PUBLISH
X-WR-CALNAME:Simon Parcot
X-ORIGINAL-URL:https://randosphilos.fr
X-WR-CALDESC:Évènements pour Simon Parcot
REFRESH-INTERVAL;VALUE=DURATION:PT1H
X-Robots-Tag:noindex
X-PUBLISHED-TTL:PT1H
BEGIN:VTIMEZONE
TZID:Europe/Zurich
BEGIN:DAYLIGHT
TZOFFSETFROM:+0100
TZOFFSETTO:+0200
TZNAME:CEST
DTSTART:20200329T010000
END:DAYLIGHT
BEGIN:STANDARD
TZOFFSETFROM:+0200
TZOFFSETTO:+0100
TZNAME:CET
DTSTART:20201025T010000
END:STANDARD
BEGIN:DAYLIGHT
TZOFFSETFROM:+0100
TZOFFSETTO:+0200
TZNAME:CEST
DTSTART:20210328T010000
END:DAYLIGHT
BEGIN:STANDARD
TZOFFSETFROM:+0200
TZOFFSETTO:+0100
TZNAME:CET
DTSTART:20211031T010000
END:STANDARD
BEGIN:DAYLIGHT
TZOFFSETFROM:+0100
TZOFFSETTO:+0200
TZNAME:CEST
DTSTART:20220327T010000
END:DAYLIGHT
BEGIN:STANDARD
TZOFFSETFROM:+0200
TZOFFSETTO:+0100
TZNAME:CET
DTSTART:20221030T010000
END:STANDARD
END:VTIMEZONE
BEGIN:VEVENT
DTSTART;TZID=Europe/Zurich:20211222T140000
DTEND;TZID=Europe/Zurich:20211222T170000
DTSTAMP:20260420T215430
CREATED:20211217T124808Z
LAST-MODIFIED:20211217T130327Z
UID:30317-1640181600-1640192400@randosphilos.fr
SUMMARY:Je bouge donc je suis ? Philosophie critique du nomadisme (NOUVEAUTÉ)
DESCRIPTION:Je bouge donc je suis ? (Petite philo critique du nomadisme)Le nomadisme est à la mode.\n\nOn voit en lui une forme exotique de résistance à l’Etat\, un mode de vie affranchi des contraintes sédentaires\, une expérience de la simplicité. Mais le nomade\, c’est aussi le vagabond\, brigand de grand sentier\, punk à chien qui échappe à toute assignation à résidence et fait vaciller les certitudes. C’est aussi le “digital nomad” 2.O\, qui sillone le monde en télétravail avec son abonnement TGVmax. Mais alors\, comment définir le nomadisme ? Existe t-il un nomadisme immobile ou à l’inverse une mobilité sédentaire ? Quel rapport au monde le nomadisme suppose ? On essaiera de répondre à ces questions en compagnie des grand.es nomades\, d’hier à aujourd’hui.\n\nRésas obligatoires au 04 76 80 06 75 / 04 76 80 56 64\n\n\nhttps://randosphilos.fr/30302-2/ \n  \n\n\n 
URL:https://randosphilos.fr/agenda/je-bouge-donc-je-suis-philosophie-critique-du-nomadisme/
LOCATION:Venosc (38520)\, bibliothèque
ATTACH;FMTTYPE=application/pdf:https://randosphilos.fr/wp-content/uploads/2021/12/Affiche-rando-philo.pdf
END:VEVENT
BEGIN:VEVENT
DTSTART;TZID=Europe/Zurich:20211230T143000
DTEND;TZID=Europe/Zurich:20211230T173000
DTSTAMP:20260420T215430
CREATED:20211217T125359Z
LAST-MODIFIED:20211217T131949Z
UID:30321-1640874600-1640885400@randosphilos.fr
SUMMARY:Faut-il travailler ? (NOUVEAUTÉ)
DESCRIPTION:Faut-il travailler ? (NOUVEAUTÉ) \n« travailler c’est trop dur\, et voler c’est pas beau » chantait Alpha Blondy reprenant Zachary Richard.  En compagnie du prince du reggae\, mais aussi Hegel\, Marx et Nietzsche\, on se demandera non pas s’il est possible d’éviter le travail\, mais s’il faut\, ou non\, travailler ? Est-il ce qui nous libère\, ou ce qui nous aliène ? Un moyen de déployer notre humanité ou à l’inverse\, ce qui nous en empêche ? Faut-il trimer comme un dur ou s’adosser sur un mur ? Pointer toute la journée ou chiller à une terrasse de café ? \n\n14h30-15H30\, col de la Chaudière (26) \nPrix : 20 € \n\nRésas et informations au 06 47 53 88 55 \nhttps://randosphilos.fr/30307-2/
URL:https://randosphilos.fr/agenda/faut-il-travailler/
LOCATION:Col de la chaudière
ATTACH;FMTTYPE=image/jpeg:https://randosphilos.fr/wp-content/uploads/2021/12/Chaplin-2.jpg
END:VEVENT
END:VCALENDAR