BEGIN:VCALENDAR
VERSION:2.0
PRODID:-//Simon Parcot - ECPv6.15.20//NONSGML v1.0//EN
CALSCALE:GREGORIAN
METHOD:PUBLISH
X-ORIGINAL-URL:https://randosphilos.fr
X-WR-CALDESC:Évènements pour Simon Parcot
REFRESH-INTERVAL;VALUE=DURATION:PT1H
X-Robots-Tag:noindex
X-PUBLISHED-TTL:PT1H
BEGIN:VTIMEZONE
TZID:Europe/Zurich
BEGIN:DAYLIGHT
TZOFFSETFROM:+0100
TZOFFSETTO:+0200
TZNAME:CEST
DTSTART:20200329T010000
END:DAYLIGHT
BEGIN:STANDARD
TZOFFSETFROM:+0200
TZOFFSETTO:+0100
TZNAME:CET
DTSTART:20201025T010000
END:STANDARD
BEGIN:DAYLIGHT
TZOFFSETFROM:+0100
TZOFFSETTO:+0200
TZNAME:CEST
DTSTART:20210328T010000
END:DAYLIGHT
BEGIN:STANDARD
TZOFFSETFROM:+0200
TZOFFSETTO:+0100
TZNAME:CET
DTSTART:20211031T010000
END:STANDARD
BEGIN:DAYLIGHT
TZOFFSETFROM:+0100
TZOFFSETTO:+0200
TZNAME:CEST
DTSTART:20220327T010000
END:DAYLIGHT
BEGIN:STANDARD
TZOFFSETFROM:+0200
TZOFFSETTO:+0100
TZNAME:CET
DTSTART:20221030T010000
END:STANDARD
END:VTIMEZONE
BEGIN:VEVENT
DTSTART;TZID=Europe/Zurich:20210703T140000
DTEND;TZID=Europe/Zurich:20210703T163000
DTSTAMP:20260421T031903
CREATED:20210128T112356Z
LAST-MODIFIED:20210614T111902Z
UID:29907-1625320800-1625329800@randosphilos.fr
SUMMARY:Le mythe de Prométhée (rando famille)
DESCRIPTION:Rando philo-famille sur le mythe de Prométhée\, en direction du jardin des Charmettes\, où Jean-Jacques Rousseau déambula en compagnie de Madame de Warens de 1736 à 1742 ! \n(Cette rando se veut familiale\, elle sera donc pensée pour les enfants) \nDépart 14 h devant le centre des congrès de Chambéry. Direction Les Charmettes. \nSur réservation au 0479685845  \nGRATUIT pour les participants (organisé par Les Charmettes) \n  \n  \n 
URL:https://randosphilos.fr/agenda/la-marche-une-philosophie-speciale-j-j-rousseau/
LOCATION:Les Charmettes\, maison de Jean-Jacques Rousseau\, 890 chemin des Charmettes\, Chambéry\, 73000
ATTACH;FMTTYPE=image/jpeg:https://randosphilos.fr/wp-content/uploads/2021/01/maison-des-charmettes.jpg
END:VEVENT
BEGIN:VEVENT
DTSTART;TZID=Europe/Zurich:20210716T090000
DTEND;TZID=Europe/Zurich:20210716T110000
DTSTAMP:20260421T031903
CREATED:20210525T124556Z
LAST-MODIFIED:20210614T110814Z
UID:30129-1626426000-1626433200@randosphilos.fr
SUMMARY:La marche une philosophie ? (Alpe d'Huez)
DESCRIPTION:Marcher. Mettre un pied devant l’autre : quoi de plus banal ? Quel intérêt ? Pourtant\, nombre de penseurs.es ont puisé dans la marche de quoi nourrir leurs pensées. Pour les un.es\, elle est apprentissage de la rigueur et de la volonté\, pour d’autres une pratique propice à la création ou une expérience radicale de la liberté. Du randonneur au flâneur\, du pèlerin au vagabond\, d’Aristote à Rousseau\, en passant par Nietzsche\, Kant et Rimbaud\, venez découvrir\, le temps d’une promenade\, « ce que marcher veut dire »\, et pourquoi ça nous attire ». \nTemps de l’intervention : environ 2h30 \nGratuit \nRendez vous à la Médiathèque de l’Alpe d’Huez (57 Rue du Coulet\, 38750 Huez) \nRéservations obligatoires au 04 76 79 57 69  \n 
URL:https://randosphilos.fr/agenda/la-marche-une-philosophie-alpe-dhuez/
LOCATION:Bibliothèque Alpe d’Huez\, 57 rue du Coulet\, HUEZ\, France
ATTACH;FMTTYPE=image/jpeg:https://randosphilos.fr/wp-content/uploads/2021/05/ERDRE-PLaton-et-Aristote.jpg
END:VEVENT
BEGIN:VEVENT
DTSTART;TZID=Europe/Zurich:20210718T140000
DTEND;TZID=Europe/Zurich:20210718T170000
DTSTAMP:20260421T031903
CREATED:20210705T094224Z
LAST-MODIFIED:20210705T094224Z
UID:30227-1626616800-1626627600@randosphilos.fr
SUMMARY:Pourquoi grimper sur les montagnes ? Fête des guides\, La Bérarde (38)
DESCRIPTION:Lors de la fête des guides de la Bérarde (hameau quasi mythologique de l’alpinisme)\, je tiendrai un stand toute la journée pour présenter ma démarche. \nPuis\, en début d’après-midi\, je proposerai une mini-rando sur l’alpinisme aux alentours du village. \nGratuit – pas de réservations obligatoires.
URL:https://randosphilos.fr/agenda/pourquoi-grimper-sur-les-montagnes-fete-des-guides-la-berarde-38/
LOCATION:La Bérarde (38)
ATTACH;FMTTYPE=image/jpeg:https://randosphilos.fr/wp-content/uploads/2021/07/la-berarde.jpg
END:VEVENT
BEGIN:VEVENT
DTSTART;TZID=Europe/Zurich:20210721T140000
DTEND;TZID=Europe/Zurich:20210721T170000
DTSTAMP:20260421T031903
CREATED:20210705T093415Z
LAST-MODIFIED:20210705T093415Z
UID:30225-1626876000-1626886800@randosphilos.fr
SUMMARY:La folie des hauteurs (rando-contée)\, St Christophe en Oisans (38)
DESCRIPTION:Comment Jean Troillet a pu voir des ballets de fées vertes en pleine face nord de l’Everest ? Pourquoi Sandy Allan s’est arrêté au milieu du Nanga Parbat pour prendre Snoopy en photo ?  ? \nAu départ du bar mythique « La Cordée »\, Simon nous contera avec humour les plus croustillantes histoires d’hallucinations en haute-montagne. Ce sera aussi l’occasion d’un questionnement philosophique sur notre perception du réel et sur la place de l’explication scientifique dans notre lecture du monde. Ballade aisée\, mais vertiges assurés ! \n(Cette rando-contée se veut une prolongation littéraire et humoristique d’un cycle de « randos-philo » sur l’alpinisme). \nLieu et heure de rendez vous : Bar la Cordée\, 14h \nTemps de l’intervention : entre 2 et 3 h \nRéservations au : 0476795237 ou 0783662918 \nPrix participant à définir \nA partir de 10 ans
URL:https://randosphilos.fr/agenda/la-folie-des-hauteurs-rando-contee-st-christophe-en-oisans-38/
LOCATION:La Cordée\, Saint Christophe en Oisans
ATTACH;FMTTYPE=image/jpeg:https://randosphilos.fr/wp-content/uploads/2021/03/source-maximiliangierl.jpg
END:VEVENT
BEGIN:VEVENT
DTSTART;TZID=Europe/Zurich:20210725T140000
DTEND;TZID=Europe/Zurich:20210725T173000
DTSTAMP:20260421T031903
CREATED:20210525T130340Z
LAST-MODIFIED:20210705T092949Z
UID:30143-1627221600-1627234200@randosphilos.fr
SUMMARY:Le mythe de la caverne (rando-philo musicale)\, Clavans
DESCRIPTION:Dans le cadre du festival des randos-musicales\, les deux Simons vous proposent une rando-philo inédite sur le mythe de la caverne : \nPendant une après-midi sur les sentiers d’Oisans\, Simon Parcot contera le mythe de Platon et tentera d’expliquer sa signification pendant que le musicien Simon Louche proposera des temps musicaux pour accompagner la réflexion ! \nRendez-vous 14h (lieu précis à définir encore) \nRéservations et informations au 06 30 93 53 19 \nDurée : 3h30 \nA partir de 10 ans
URL:https://randosphilos.fr/agenda/rando-philo-musicale-clavans-theme-a-definir/
LOCATION:Clavans (38142)
ATTACH;FMTTYPE=image/jpeg:https://randosphilos.fr/wp-content/uploads/2021/05/282.Magritte_La-Condition-humaine.jpg
END:VEVENT
END:VCALENDAR