BEGIN:VCALENDAR
VERSION:2.0
PRODID:-//Simon Parcot - ECPv6.15.20//NONSGML v1.0//EN
CALSCALE:GREGORIAN
METHOD:PUBLISH
X-WR-CALNAME:Simon Parcot
X-ORIGINAL-URL:https://randosphilos.fr
X-WR-CALDESC:Évènements pour Simon Parcot
REFRESH-INTERVAL;VALUE=DURATION:PT1H
X-Robots-Tag:noindex
X-PUBLISHED-TTL:PT1H
BEGIN:VTIMEZONE
TZID:Europe/Zurich
BEGIN:DAYLIGHT
TZOFFSETFROM:+0100
TZOFFSETTO:+0200
TZNAME:CEST
DTSTART:20200329T010000
END:DAYLIGHT
BEGIN:STANDARD
TZOFFSETFROM:+0200
TZOFFSETTO:+0100
TZNAME:CET
DTSTART:20201025T010000
END:STANDARD
BEGIN:DAYLIGHT
TZOFFSETFROM:+0100
TZOFFSETTO:+0200
TZNAME:CEST
DTSTART:20210328T010000
END:DAYLIGHT
BEGIN:STANDARD
TZOFFSETFROM:+0200
TZOFFSETTO:+0100
TZNAME:CET
DTSTART:20211031T010000
END:STANDARD
BEGIN:DAYLIGHT
TZOFFSETFROM:+0100
TZOFFSETTO:+0200
TZNAME:CEST
DTSTART:20220327T010000
END:DAYLIGHT
BEGIN:STANDARD
TZOFFSETFROM:+0200
TZOFFSETTO:+0100
TZNAME:CET
DTSTART:20221030T010000
END:STANDARD
END:VTIMEZONE
BEGIN:VEVENT
DTSTART;TZID=Europe/Zurich:20210301T130000
DTEND;TZID=Europe/Zurich:20210301T153000
DTSTAMP:20260421T170327
CREATED:20210215T170822Z
LAST-MODIFIED:20210215T171545Z
UID:29996-1614603600-1614612600@randosphilos.fr
SUMMARY:A la recherche du sauvage (cycle Oisans - promenade IV)
DESCRIPTION:A la recherche du sauvage \n« Qu’est-ce que le Sauvage ? Une nature brute et fantasmée ? Notre « part de bête »\, authentique\, primitive et indomestiquée ? Un mythe ou une réalité ? S’il existe\, faut-il le rechercher ou au contraire l’éviter ? En compagnie d’Aristote\, Rousseau\, Descola ou Thoreau\, venez traquer l’idée de sauvage à même les sentiers ! » \nGratuit (offert par la bibliothèque) \nA partir de 10 ans \nBallade très accessible \nréservations obligatoires au 04 76 80 56 64
URL:https://randosphilos.fr/agenda/a-la-recherche-du-sauvage-cycle-oisans-promenade-iv/
LOCATION:Venosc village 38520 (bibliothèque)
ATTACH;FMTTYPE=image/jpeg:https://randosphilos.fr/wp-content/uploads/2020/12/jbsw_guk74-scaled.jpg
END:VEVENT
BEGIN:VEVENT
DTSTART;TZID=Europe/Zurich:20210304T130000
DTEND;TZID=Europe/Zurich:20210304T153000
DTSTAMP:20260421T170327
CREATED:20210215T171208Z
LAST-MODIFIED:20210215T171208Z
UID:29998-1614862800-1614871800@randosphilos.fr
SUMMARY:La nature vue d'ailleurs (cycle Oisans - promenade V)
DESCRIPTION:La nature vue d’ailleurs \n« Pendant le temps d’une promenade\, nous quitterons le Vieux Continent par la pensée pour rejoindre l’Amazonie et le peuple Achuar. Là-bas\, nous rencontrerons un philosophe amérindien qui nous exposera une perception de la Nature qui remettra radicalement en cause notre propre manière de la concevoir et d’être en relation avec elle. Émerveillement et vertige assurés ! » \nGratuit (offert par la bibliothèque) \nA partir de 10 ans \nBallade très accessible \nRéservations obligatoires au 04 76 80 56 64
URL:https://randosphilos.fr/agenda/la-nature-vue-dailleurs-cycle-oisans-promenade-v/
LOCATION:Venosc village 38520 (bibliothèque)
ATTACH;FMTTYPE=image/jpeg:https://randosphilos.fr/wp-content/uploads/2020/12/masque-inuit.jpg
END:VEVENT
END:VCALENDAR