BEGIN:VCALENDAR
VERSION:2.0
PRODID:-//Simon Parcot - ECPv6.15.20//NONSGML v1.0//EN
CALSCALE:GREGORIAN
METHOD:PUBLISH
X-ORIGINAL-URL:https://randosphilos.fr
X-WR-CALDESC:Évènements pour Simon Parcot
REFRESH-INTERVAL;VALUE=DURATION:PT1H
X-Robots-Tag:noindex
X-PUBLISHED-TTL:PT1H
BEGIN:VTIMEZONE
TZID:Europe/Zurich
BEGIN:DAYLIGHT
TZOFFSETFROM:+0100
TZOFFSETTO:+0200
TZNAME:CEST
DTSTART:20210328T010000
END:DAYLIGHT
BEGIN:STANDARD
TZOFFSETFROM:+0200
TZOFFSETTO:+0100
TZNAME:CET
DTSTART:20211031T010000
END:STANDARD
BEGIN:DAYLIGHT
TZOFFSETFROM:+0100
TZOFFSETTO:+0200
TZNAME:CEST
DTSTART:20220327T010000
END:DAYLIGHT
BEGIN:STANDARD
TZOFFSETFROM:+0200
TZOFFSETTO:+0100
TZNAME:CET
DTSTART:20221030T010000
END:STANDARD
BEGIN:DAYLIGHT
TZOFFSETFROM:+0100
TZOFFSETTO:+0200
TZNAME:CEST
DTSTART:20230326T010000
END:DAYLIGHT
BEGIN:STANDARD
TZOFFSETFROM:+0200
TZOFFSETTO:+0100
TZNAME:CET
DTSTART:20231029T010000
END:STANDARD
END:VTIMEZONE
BEGIN:VEVENT
DTSTART;TZID=Europe/Zurich:20221221T100000
DTEND;TZID=Europe/Zurich:20221221T130000
DTSTAMP:20260422T081604
CREATED:20221129T101859Z
LAST-MODIFIED:20221129T101859Z
UID:30500-1671616800-1671627600@randosphilos.fr
SUMMARY:Cadences des corps montagnards (Venosc\, 38)
DESCRIPTION:Cadences des corps montagnards\, sur le thème du corps et son mouvement en montagne. \n21 Décembre à partir de 10h\, départ à la bibliothèque de Venosc (38). \nPlus d’informations à venir sur le site des 2ALPES.FR \nGRATUIT \nCadences des corps montagnards
URL:https://randosphilos.fr/agenda/cadences-des-corps-montagnards-venosc-38/
LOCATION:Venosc (38520)\, bibliothèque
ATTACH;FMTTYPE=image/jpeg:https://randosphilos.fr/wp-content/uploads/2022/11/Kylian-Jornet-2-e1669306292787.jpg
END:VEVENT
END:VCALENDAR