BEGIN:VCALENDAR
VERSION:2.0
PRODID:-//Simon Parcot - ECPv6.15.20//NONSGML v1.0//EN
CALSCALE:GREGORIAN
METHOD:PUBLISH
X-ORIGINAL-URL:https://randosphilos.fr
X-WR-CALDESC:Évènements pour Simon Parcot
REFRESH-INTERVAL;VALUE=DURATION:PT1H
X-Robots-Tag:noindex
X-PUBLISHED-TTL:PT1H
BEGIN:VTIMEZONE
TZID:Europe/Zurich
BEGIN:DAYLIGHT
TZOFFSETFROM:+0100
TZOFFSETTO:+0200
TZNAME:CEST
DTSTART:20210328T010000
END:DAYLIGHT
BEGIN:STANDARD
TZOFFSETFROM:+0200
TZOFFSETTO:+0100
TZNAME:CET
DTSTART:20211031T010000
END:STANDARD
BEGIN:DAYLIGHT
TZOFFSETFROM:+0100
TZOFFSETTO:+0200
TZNAME:CEST
DTSTART:20220327T010000
END:DAYLIGHT
BEGIN:STANDARD
TZOFFSETFROM:+0200
TZOFFSETTO:+0100
TZNAME:CET
DTSTART:20221030T010000
END:STANDARD
BEGIN:DAYLIGHT
TZOFFSETFROM:+0100
TZOFFSETTO:+0200
TZNAME:CEST
DTSTART:20230326T010000
END:DAYLIGHT
BEGIN:STANDARD
TZOFFSETFROM:+0200
TZOFFSETTO:+0100
TZNAME:CET
DTSTART:20231029T010000
END:STANDARD
END:VTIMEZONE
BEGIN:VEVENT
DTSTART;TZID=Europe/Zurich:20220721T143000
DTEND;TZID=Europe/Zurich:20220721T163000
DTSTAMP:20260421T194427
CREATED:20220710T135242Z
LAST-MODIFIED:20220710T135242Z
UID:30414-1658413800-1658421000@randosphilos.fr
SUMMARY:Pourquoi grimper sur les montagnes ? Philo de l'alpinisme
DESCRIPTION:14h30 – 16h30 \nDépart Centre Estival du Collet\n38114 Vaujany \nA partir de 10 ans \ngratuit \nréservations au : 04 76 80 77 08 \nPlus d’infos sur la balade : \nPourquoi grimpons-nous sur les montagnes ? \n \n 
URL:https://randosphilos.fr/agenda/pourquoi-grimper-sur-les-montagnes-philo-de-lalpinisme-2/
LOCATION:Vaujany (38)
ATTACH;FMTTYPE=image/jpeg:https://randosphilos.fr/wp-content/uploads/2021/01/image-projet-4_.jpg
END:VEVENT
END:VCALENDAR