BEGIN:VCALENDAR
VERSION:2.0
PRODID:-//Simon Parcot - ECPv6.15.20//NONSGML v1.0//EN
CALSCALE:GREGORIAN
METHOD:PUBLISH
X-WR-CALNAME:Simon Parcot
X-ORIGINAL-URL:https://randosphilos.fr
X-WR-CALDESC:Évènements pour Simon Parcot
REFRESH-INTERVAL;VALUE=DURATION:PT1H
X-Robots-Tag:noindex
X-PUBLISHED-TTL:PT1H
BEGIN:VTIMEZONE
TZID:Europe/Zurich
BEGIN:DAYLIGHT
TZOFFSETFROM:+0100
TZOFFSETTO:+0200
TZNAME:CEST
DTSTART:20210328T010000
END:DAYLIGHT
BEGIN:STANDARD
TZOFFSETFROM:+0200
TZOFFSETTO:+0100
TZNAME:CET
DTSTART:20211031T010000
END:STANDARD
BEGIN:DAYLIGHT
TZOFFSETFROM:+0100
TZOFFSETTO:+0200
TZNAME:CEST
DTSTART:20220327T010000
END:DAYLIGHT
BEGIN:STANDARD
TZOFFSETFROM:+0200
TZOFFSETTO:+0100
TZNAME:CET
DTSTART:20221030T010000
END:STANDARD
BEGIN:DAYLIGHT
TZOFFSETFROM:+0100
TZOFFSETTO:+0200
TZNAME:CEST
DTSTART:20230326T010000
END:DAYLIGHT
BEGIN:STANDARD
TZOFFSETFROM:+0200
TZOFFSETTO:+0100
TZNAME:CET
DTSTART:20231029T010000
END:STANDARD
END:VTIMEZONE
BEGIN:VEVENT
DTSTART;TZID=Europe/Zurich:20220720T140000
DTEND;TZID=Europe/Zurich:20220720T170000
DTSTAMP:20260421T225901
CREATED:20220710T134836Z
LAST-MODIFIED:20220710T134836Z
UID:30410-1658325600-1658336400@randosphilos.fr
SUMMARY:Faut-il vraiment travailler ?
DESCRIPTION:Balade philo inédite sur le travail ! \nDépart 14 h de la bibliothèque de Venosc Village (mairie annexe) \nDurée : 3 h \nGratuit \nConseillée à partir de 13 ans \nréservations au 04 76 80 56 64 ou mail : bibliotheque.lardoisiere@mairie2alpes.fr \n  \nplus d’infos sur la balade : \nhttps://randosphilos.fr/30307-2/
URL:https://randosphilos.fr/agenda/faut-il-vraiment-travailler/
LOCATION:Venosc (38)\, Le courtil\, 5 rue du cable 38520 VENOSC
ATTACH;FMTTYPE=image/jpeg:https://randosphilos.fr/wp-content/uploads/2021/12/Chaplin.jpg
END:VEVENT
END:VCALENDAR