BEGIN:VCALENDAR
VERSION:2.0
PRODID:-//Simon Parcot - ECPv6.15.20//NONSGML v1.0//EN
CALSCALE:GREGORIAN
METHOD:PUBLISH
X-ORIGINAL-URL:https://randosphilos.fr
X-WR-CALDESC:Évènements pour Simon Parcot
REFRESH-INTERVAL;VALUE=DURATION:PT1H
X-Robots-Tag:noindex
X-PUBLISHED-TTL:PT1H
BEGIN:VTIMEZONE
TZID:Europe/Zurich
BEGIN:DAYLIGHT
TZOFFSETFROM:+0100
TZOFFSETTO:+0200
TZNAME:CEST
DTSTART:20210328T010000
END:DAYLIGHT
BEGIN:STANDARD
TZOFFSETFROM:+0200
TZOFFSETTO:+0100
TZNAME:CET
DTSTART:20211031T010000
END:STANDARD
BEGIN:DAYLIGHT
TZOFFSETFROM:+0100
TZOFFSETTO:+0200
TZNAME:CEST
DTSTART:20220327T010000
END:DAYLIGHT
BEGIN:STANDARD
TZOFFSETFROM:+0200
TZOFFSETTO:+0100
TZNAME:CET
DTSTART:20221030T010000
END:STANDARD
BEGIN:DAYLIGHT
TZOFFSETFROM:+0100
TZOFFSETTO:+0200
TZNAME:CEST
DTSTART:20230326T010000
END:DAYLIGHT
BEGIN:STANDARD
TZOFFSETFROM:+0200
TZOFFSETTO:+0100
TZNAME:CET
DTSTART:20231029T010000
END:STANDARD
END:VTIMEZONE
BEGIN:VEVENT
DTSTART;TZID=Europe/Zurich:20220327T140000
DTEND;TZID=Europe/Zurich:20220327T163000
DTSTAMP:20260421T085136
CREATED:20220129T145644Z
LAST-MODIFIED:20220129T145644Z
UID:30373-1648389600-1648398600@randosphilos.fr
SUMMARY:La nature vue d'ailleurs (Festival curieux voyageurs\, Saint-Étienne)
DESCRIPTION:La nature vue d’ailleurs \n« Pendant le temps d’une promenade\, nous quitterons le Vieux Continent par la pensée pour rejoindre l’Amazonie et le peuple Achuar. Là-bas\, nous rencontrerons un philosophe amérindien qui nous exposera une perception de la Nature qui remettra radicalement en cause notre propre manière de la concevoir et d’être en relation avec elle. Émerveillement et vertige assurés ! » \n14h-16h30 \nRendez vous devant le palais des congrès\, balade au Jardin des plantes (Opéra) \n12€/personne \nà partir de 10 ans \nrésas au standard curieux voyageurs ou au 0647538855
URL:https://randosphilos.fr/agenda/la-nature-vue-dailleurs-festival-curieux-voyageurs-saint-etienne/
ATTACH;FMTTYPE=image/jpeg:https://randosphilos.fr/wp-content/uploads/2020/12/masque-inuit.jpg
END:VEVENT
END:VCALENDAR