BEGIN:VCALENDAR
VERSION:2.0
PRODID:-//Simon Parcot - ECPv6.15.20//NONSGML v1.0//EN
CALSCALE:GREGORIAN
METHOD:PUBLISH
X-ORIGINAL-URL:https://randosphilos.fr
X-WR-CALDESC:Évènements pour Simon Parcot
REFRESH-INTERVAL;VALUE=DURATION:PT1H
X-Robots-Tag:noindex
X-PUBLISHED-TTL:PT1H
BEGIN:VTIMEZONE
TZID:Europe/Zurich
BEGIN:DAYLIGHT
TZOFFSETFROM:+0100
TZOFFSETTO:+0200
TZNAME:CEST
DTSTART:20210328T010000
END:DAYLIGHT
BEGIN:STANDARD
TZOFFSETFROM:+0200
TZOFFSETTO:+0100
TZNAME:CET
DTSTART:20211031T010000
END:STANDARD
BEGIN:DAYLIGHT
TZOFFSETFROM:+0100
TZOFFSETTO:+0200
TZNAME:CEST
DTSTART:20220327T010000
END:DAYLIGHT
BEGIN:STANDARD
TZOFFSETFROM:+0200
TZOFFSETTO:+0100
TZNAME:CET
DTSTART:20221030T010000
END:STANDARD
BEGIN:DAYLIGHT
TZOFFSETFROM:+0100
TZOFFSETTO:+0200
TZNAME:CEST
DTSTART:20230326T010000
END:DAYLIGHT
BEGIN:STANDARD
TZOFFSETFROM:+0200
TZOFFSETTO:+0100
TZNAME:CET
DTSTART:20231029T010000
END:STANDARD
END:VTIMEZONE
BEGIN:VEVENT
DTSTART;TZID=Europe/Zurich:20220326T140000
DTEND;TZID=Europe/Zurich:20220326T163000
DTSTAMP:20260421T085312
CREATED:20220129T145228Z
LAST-MODIFIED:20220129T145236Z
UID:30370-1648303200-1648312200@randosphilos.fr
SUMMARY:Je bouge donc je suis ? Philo critique du nomadisme (Festival Curieux Voyageurs\, Saint-Etienne)
DESCRIPTION:Je bouge donc je suis ? (Petite philo critique du nomadisme) \nLe nomadisme est à la mode. On voit en lui une forme exotique de résistance à l’Etat\, un mode de vie affranchi des contraintes sédentaires\, une expérience de la simplicité. Mais le nomade\, c’est aussi le vagabond\, brigand de grand sentier\, punk à chien qui échappe à toute assignation à résidence et fait vaciller les certitudes. C’est aussi le “digital nomad” 2.O\, qui sillone le monde en télétravail avec son abonnement TGVmax. Mais alors\, comment définir le nomadisme ? Existe t-il un nomadisme immobile ou à l’inverse une mobilité sédentaire ? Quel rapport au monde le nomadisme suppose ? On essaiera de répondre à ces questions en compagnie des grand.es nomades\, d’hier à aujourd’hui. \n14h-16h30 \nRendez vous devant le palais des congères\, balade au Jardin des plantes (Opéra) \n12€/personne \nà partir de 10 ans \nrésas au standard curieux voyageurs ou au 0647538855
URL:https://randosphilos.fr/agenda/je-bouge-donc-je-suis-philo-critique-du-nomadisme-festival-curieux-voyageurs-saint-etienne/
ATTACH;FMTTYPE=image/jpeg:https://randosphilos.fr/wp-content/uploads/2021/12/gitan.jpg
END:VEVENT
END:VCALENDAR