BEGIN:VCALENDAR
VERSION:2.0
PRODID:-//Simon Parcot - ECPv6.15.20//NONSGML v1.0//EN
CALSCALE:GREGORIAN
METHOD:PUBLISH
X-WR-CALNAME:Simon Parcot
X-ORIGINAL-URL:https://randosphilos.fr
X-WR-CALDESC:Évènements pour Simon Parcot
REFRESH-INTERVAL;VALUE=DURATION:PT1H
X-Robots-Tag:noindex
X-PUBLISHED-TTL:PT1H
BEGIN:VTIMEZONE
TZID:Europe/Zurich
BEGIN:DAYLIGHT
TZOFFSETFROM:+0100
TZOFFSETTO:+0200
TZNAME:CEST
DTSTART:20210328T010000
END:DAYLIGHT
BEGIN:STANDARD
TZOFFSETFROM:+0200
TZOFFSETTO:+0100
TZNAME:CET
DTSTART:20211031T010000
END:STANDARD
BEGIN:DAYLIGHT
TZOFFSETFROM:+0100
TZOFFSETTO:+0200
TZNAME:CEST
DTSTART:20220327T010000
END:DAYLIGHT
BEGIN:STANDARD
TZOFFSETFROM:+0200
TZOFFSETTO:+0100
TZNAME:CET
DTSTART:20221030T010000
END:STANDARD
BEGIN:DAYLIGHT
TZOFFSETFROM:+0100
TZOFFSETTO:+0200
TZNAME:CEST
DTSTART:20230326T010000
END:DAYLIGHT
BEGIN:STANDARD
TZOFFSETFROM:+0200
TZOFFSETTO:+0100
TZNAME:CET
DTSTART:20231029T010000
END:STANDARD
END:VTIMEZONE
BEGIN:VEVENT
DTSTART;TZID=Europe/Zurich:20220228T193000
DTEND;TZID=Europe/Zurich:20220228T193000
DTSTAMP:20260421T084149
CREATED:20220129T150310Z
LAST-MODIFIED:20220129T150344Z
UID:30375-1646076600-1646076600@randosphilos.fr
SUMMARY:Vers un nouvel perspectivisme écologique ? (Conférence\, Rouen)
DESCRIPTION:Lundi 28 février 2022 à 19h30 \nToutes les informations sont sur ce lien : https://www.atelier231.fr/Les-Rendez-Vous-de-la-Cervelle-2022.html?id_evenement=137 \n 
URL:https://randosphilos.fr/agenda/vers-un-nouvel-perspectivisme-ecologique-conference-statique-rouen/
ATTACH;FMTTYPE=image/jpeg:https://randosphilos.fr/wp-content/uploads/2022/01/affiche-rdv-cervelle-2022-web.jpg
END:VEVENT
END:VCALENDAR