BEGIN:VCALENDAR
VERSION:2.0
PRODID:-//Simon Parcot - ECPv6.15.20//NONSGML v1.0//EN
CALSCALE:GREGORIAN
METHOD:PUBLISH
X-ORIGINAL-URL:https://randosphilos.fr
X-WR-CALDESC:Évènements pour Simon Parcot
REFRESH-INTERVAL;VALUE=DURATION:PT1H
X-Robots-Tag:noindex
X-PUBLISHED-TTL:PT1H
BEGIN:VTIMEZONE
TZID:Europe/Zurich
BEGIN:DAYLIGHT
TZOFFSETFROM:+0100
TZOFFSETTO:+0200
TZNAME:CEST
DTSTART:20210328T010000
END:DAYLIGHT
BEGIN:STANDARD
TZOFFSETFROM:+0200
TZOFFSETTO:+0100
TZNAME:CET
DTSTART:20211031T010000
END:STANDARD
BEGIN:DAYLIGHT
TZOFFSETFROM:+0100
TZOFFSETTO:+0200
TZNAME:CEST
DTSTART:20220327T010000
END:DAYLIGHT
BEGIN:STANDARD
TZOFFSETFROM:+0200
TZOFFSETTO:+0100
TZNAME:CET
DTSTART:20221030T010000
END:STANDARD
BEGIN:DAYLIGHT
TZOFFSETFROM:+0100
TZOFFSETTO:+0200
TZNAME:CEST
DTSTART:20230326T010000
END:DAYLIGHT
BEGIN:STANDARD
TZOFFSETFROM:+0200
TZOFFSETTO:+0100
TZNAME:CET
DTSTART:20231029T010000
END:STANDARD
END:VTIMEZONE
BEGIN:VEVENT
DTSTART;TZID=Europe/Zurich:20220218T140000
DTEND;TZID=Europe/Zurich:20220218T170000
DTSTAMP:20260421T122303
CREATED:20220129T144048Z
LAST-MODIFIED:20220129T144048Z
UID:30367-1645192800-1645203600@randosphilos.fr
SUMMARY:Faut-il travailler ?
DESCRIPTION:Faut-il travailler ? \n“Travailler c’est trop dur\, et voler c’est pas beau” chantait Alpha Blondy reprenant Zachary Richard.  En compagnie du prince du reggae mais aussi Hegel\, Marx et Nietzsche\, on se demandera non pas s’il est possible d’éviter le travail\, mais s’il faut\, ou non\, travailler ? Est-il ce qui nous libère\, ou ce qui nous aliène ? Un moyen de déployer notre humanité ou à l’inverse\, ce qui nous en empêche ? Faut-il trimer comme un dur ou s’adosser sur un mur ? Pointer toute la journée ou chiller à une terrasse de café ? \nRéservations au 06 47 53 88 55 ou 06 25 77 19 79 \n14h-17h \nDépart des Gaufrettes \n15 € \nA partir de 10 ans \n 
URL:https://randosphilos.fr/agenda/faut-il-travailler-2/
LOCATION:Les Gaufrettes\, 455 route de Savoie\, Allemond\, 38114\, France
ATTACH;FMTTYPE=image/jpeg:https://randosphilos.fr/wp-content/uploads/2021/12/Chaplin.jpg
END:VEVENT
END:VCALENDAR