BEGIN:VCALENDAR
VERSION:2.0
PRODID:-//Simon Parcot - ECPv6.15.20//NONSGML v1.0//EN
CALSCALE:GREGORIAN
METHOD:PUBLISH
X-ORIGINAL-URL:https://randosphilos.fr
X-WR-CALDESC:Évènements pour Simon Parcot
REFRESH-INTERVAL;VALUE=DURATION:PT1H
X-Robots-Tag:noindex
X-PUBLISHED-TTL:PT1H
BEGIN:VTIMEZONE
TZID:Europe/Zurich
BEGIN:DAYLIGHT
TZOFFSETFROM:+0100
TZOFFSETTO:+0200
TZNAME:CEST
DTSTART:20210328T010000
END:DAYLIGHT
BEGIN:STANDARD
TZOFFSETFROM:+0200
TZOFFSETTO:+0100
TZNAME:CET
DTSTART:20211031T010000
END:STANDARD
BEGIN:DAYLIGHT
TZOFFSETFROM:+0100
TZOFFSETTO:+0200
TZNAME:CEST
DTSTART:20220327T010000
END:DAYLIGHT
BEGIN:STANDARD
TZOFFSETFROM:+0200
TZOFFSETTO:+0100
TZNAME:CET
DTSTART:20221030T010000
END:STANDARD
BEGIN:DAYLIGHT
TZOFFSETFROM:+0100
TZOFFSETTO:+0200
TZNAME:CEST
DTSTART:20230326T010000
END:DAYLIGHT
BEGIN:STANDARD
TZOFFSETFROM:+0200
TZOFFSETTO:+0100
TZNAME:CET
DTSTART:20231029T010000
END:STANDARD
END:VTIMEZONE
BEGIN:VEVENT
DTSTART;TZID=Europe/Zurich:20220213T140000
DTEND;TZID=Europe/Zurich:20220213T170000
DTSTAMP:20260421T031936
CREATED:20220129T143726Z
LAST-MODIFIED:20220129T143843Z
UID:30364-1644760800-1644771600@randosphilos.fr
SUMMARY:Philosophie critique du nomadisme
DESCRIPTION:Je bouge donc je suis ?  (Petite philo critique du nomadisme) \nLe nomadisme est à la mode. On voit en lui une forme exotique de résistance à l’Etat\, un mode de vie affranchi des contraintes sédentaires\, une expérience de la simplicité. Mais le nomade\, c’est aussi le vagabond\, brigand de grand sentier\, punk à chien qui échappe à toute assignation à résidence et fait vaciller les certitudes. C’est aussi le “digital nomad” 2.O\, qui sillone le monde en télétravail avec son abonnement TGVmax. Mais alors\, comment définir le nomadisme ? Existe t-il un nomadisme immobile ou à l’inverse une mobilité sédentaire ? Quel rapport au monde le nomadisme suppose ? On essaiera de répondre à ces questions en compagnie des grand.es nomades\, d’hier à aujourd’hui. \nRéservations au 06 47 53 88 55 ou 06 25 77 19 79 \n14h-17h \nDépart des Gaufrettes \n15€ \nA partir de 10 ans
URL:https://randosphilos.fr/agenda/philosophie-critique-du-nomadisme/
LOCATION:Les Gaufrettes\, 455 route de Savoie\, Allemond\, 38114\, France
ATTACH;FMTTYPE=image/jpeg:https://randosphilos.fr/wp-content/uploads/2021/12/gitan.jpg
END:VEVENT
END:VCALENDAR