BEGIN:VCALENDAR
VERSION:2.0
PRODID:-//Simon Parcot - ECPv6.15.20//NONSGML v1.0//EN
CALSCALE:GREGORIAN
METHOD:PUBLISH
X-WR-CALNAME:Simon Parcot
X-ORIGINAL-URL:https://randosphilos.fr
X-WR-CALDESC:Évènements pour Simon Parcot
REFRESH-INTERVAL;VALUE=DURATION:PT1H
X-Robots-Tag:noindex
X-PUBLISHED-TTL:PT1H
BEGIN:VTIMEZONE
TZID:Europe/Zurich
BEGIN:DAYLIGHT
TZOFFSETFROM:+0100
TZOFFSETTO:+0200
TZNAME:CEST
DTSTART:20200329T010000
END:DAYLIGHT
BEGIN:STANDARD
TZOFFSETFROM:+0200
TZOFFSETTO:+0100
TZNAME:CET
DTSTART:20201025T010000
END:STANDARD
BEGIN:DAYLIGHT
TZOFFSETFROM:+0100
TZOFFSETTO:+0200
TZNAME:CEST
DTSTART:20210328T010000
END:DAYLIGHT
BEGIN:STANDARD
TZOFFSETFROM:+0200
TZOFFSETTO:+0100
TZNAME:CET
DTSTART:20211031T010000
END:STANDARD
BEGIN:DAYLIGHT
TZOFFSETFROM:+0100
TZOFFSETTO:+0200
TZNAME:CEST
DTSTART:20220327T010000
END:DAYLIGHT
BEGIN:STANDARD
TZOFFSETFROM:+0200
TZOFFSETTO:+0100
TZNAME:CET
DTSTART:20221030T010000
END:STANDARD
END:VTIMEZONE
BEGIN:VEVENT
DTSTART;TZID=Europe/Zurich:20211010T140000
DTEND;TZID=Europe/Zurich:20211010T170000
DTSTAMP:20260420T202049
CREATED:20210929T100545Z
LAST-MODIFIED:20210929T100931Z
UID:30248-1633874400-1633885200@randosphilos.fr
SUMMARY:La marche\, une philosophie ? (Allemond)
DESCRIPTION:Pendant le temps d’une ballade automnale au bord de l’Eau d’Olle\, on se demandera en compagnie des plus grand.es penseurs.es marcheus.es ce que marcher veut dire et pourquoi ça nous attire ! \nEvènement à l’initiative du café-bar les Gaufrettes (455 route de Savoie\, 38114 Allemond) \n14h-17h \nDépart & retour aux Gaufrettes \n15€/personne \nA partir de 10 ans \nRéservations au 06 47 53 88 55 ou 06 25 77 19 79 \nPlus d’infos : https://randosphilos.fr/la-marche-une-philosophie/
URL:https://randosphilos.fr/agenda/la-marche-une-philosophie-allemond/
LOCATION:Les Gaufrettes\, 455 route de Savoie\, Allemond\, 38114\, France
ATTACH;FMTTYPE=image/jpeg:https://randosphilos.fr/wp-content/uploads/2021/04/ERDRE-PLaton-et-Aristote.jpg
END:VEVENT
END:VCALENDAR