BEGIN:VCALENDAR
VERSION:2.0
PRODID:-//Simon Parcot - ECPv6.15.20//NONSGML v1.0//EN
CALSCALE:GREGORIAN
METHOD:PUBLISH
X-ORIGINAL-URL:https://randosphilos.fr
X-WR-CALDESC:Évènements pour Simon Parcot
REFRESH-INTERVAL;VALUE=DURATION:PT1H
X-Robots-Tag:noindex
X-PUBLISHED-TTL:PT1H
BEGIN:VTIMEZONE
TZID:Europe/Zurich
BEGIN:DAYLIGHT
TZOFFSETFROM:+0100
TZOFFSETTO:+0200
TZNAME:CEST
DTSTART:20200329T010000
END:DAYLIGHT
BEGIN:STANDARD
TZOFFSETFROM:+0200
TZOFFSETTO:+0100
TZNAME:CET
DTSTART:20201025T010000
END:STANDARD
BEGIN:DAYLIGHT
TZOFFSETFROM:+0100
TZOFFSETTO:+0200
TZNAME:CEST
DTSTART:20210328T010000
END:DAYLIGHT
BEGIN:STANDARD
TZOFFSETFROM:+0200
TZOFFSETTO:+0100
TZNAME:CET
DTSTART:20211031T010000
END:STANDARD
BEGIN:DAYLIGHT
TZOFFSETFROM:+0100
TZOFFSETTO:+0200
TZNAME:CEST
DTSTART:20220327T010000
END:DAYLIGHT
BEGIN:STANDARD
TZOFFSETFROM:+0200
TZOFFSETTO:+0100
TZNAME:CET
DTSTART:20221030T010000
END:STANDARD
END:VTIMEZONE
BEGIN:VEVENT
DTSTART;TZID=Europe/Zurich:20211008T140000
DTEND;TZID=Europe/Zurich:20211009T200000
DTSTAMP:20260420T163423
CREATED:20210929T095517Z
LAST-MODIFIED:20210929T100648Z
UID:30243-1633701600-1633809600@randosphilos.fr
SUMMARY:Rencontre et dédicace au festival du pastoralisme (Grenoble)
DESCRIPTION:Je serai au salon du pastoralisme au stand de la Librairie des étages de Mathilde afin de présenter ma démarche (randos-philo) et dédicacer mon livre Revenir de l’Hiver. \nVendredi 8 Octobre : 14h-20h \nSamedi 9 Octobre : 10h-20h\, dédicace à 14h
URL:https://randosphilos.fr/agenda/rencontre-et-dedicace-au-festival-international-du-pastoralisme-grenoble/
LOCATION:Grenoble\, Place victor Hugo\, Grenoble\, France
ATTACH;FMTTYPE=image/jpeg:https://randosphilos.fr/wp-content/uploads/2021/09/festival-pastoralisme.jpg
END:VEVENT
END:VCALENDAR