BEGIN:VCALENDAR
VERSION:2.0
PRODID:-//Simon Parcot - ECPv6.15.20//NONSGML v1.0//EN
CALSCALE:GREGORIAN
METHOD:PUBLISH
X-WR-CALNAME:Simon Parcot
X-ORIGINAL-URL:https://randosphilos.fr
X-WR-CALDESC:Évènements pour Simon Parcot
REFRESH-INTERVAL;VALUE=DURATION:PT1H
X-Robots-Tag:noindex
X-PUBLISHED-TTL:PT1H
BEGIN:VTIMEZONE
TZID:Europe/Zurich
BEGIN:DAYLIGHT
TZOFFSETFROM:+0100
TZOFFSETTO:+0200
TZNAME:CEST
DTSTART:20200329T010000
END:DAYLIGHT
BEGIN:STANDARD
TZOFFSETFROM:+0200
TZOFFSETTO:+0100
TZNAME:CET
DTSTART:20201025T010000
END:STANDARD
BEGIN:DAYLIGHT
TZOFFSETFROM:+0100
TZOFFSETTO:+0200
TZNAME:CEST
DTSTART:20210328T010000
END:DAYLIGHT
BEGIN:STANDARD
TZOFFSETFROM:+0200
TZOFFSETTO:+0100
TZNAME:CET
DTSTART:20211031T010000
END:STANDARD
BEGIN:DAYLIGHT
TZOFFSETFROM:+0100
TZOFFSETTO:+0200
TZNAME:CEST
DTSTART:20220327T010000
END:DAYLIGHT
BEGIN:STANDARD
TZOFFSETFROM:+0200
TZOFFSETTO:+0100
TZNAME:CET
DTSTART:20221030T010000
END:STANDARD
END:VTIMEZONE
BEGIN:VEVENT
DTSTART;TZID=Europe/Zurich:20210619T150000
DTEND;TZID=Europe/Zurich:20210619T180000
DTSTAMP:20260421T065143
CREATED:20210603T101752Z
LAST-MODIFIED:20210603T102151Z
UID:30174-1624114800-1624125600@randosphilos.fr
SUMMARY:Le mythe de la caverne
DESCRIPTION:Au fond d’une caverne\, la flamme d’une bougie vacille\, des ombres s’agitent sur le mur. Nous les contemplons depuis l’éternité jusqu’à ce que nos chaînes tombent et que nous découvrons\, à l’issue de la caverne\, la lumière du grand jour… \nLa rando-philo sur le mythe de la caverne est une invitation poétique à emboîter le pas du prisonnier libéré : avec lui\, nous remonterons la caverne en réfléchissant à notre rapport à la réalité ainsi qu’au chemin que l’ami Platon nous conseille d’entreprendre pour nous libérer de l’ignorance. Frissons poétiques et trébuchements métaphysiques garantis ! \n[Cette rando-philo-contée a été élaborée lors d’une résidence “marche en création” en compagnie de la poète Alice Baude] \nRendez-vous à définir \nRéservations au 06 47 53 88 55 ou 06 30 72 63 56 \nTemps de l’intervention : entre 2 et 3 h \nNombre maximum de participants : 10 \nPrix : 20 €/personne \nA partir de 10 ans \n 
URL:https://randosphilos.fr/agenda/le-mythe-de-la-caverne/
LOCATION:Saint- Gilles Croix-de-Vie (85)
ATTACH;FMTTYPE=image/jpeg:https://randosphilos.fr/wp-content/uploads/2021/05/282.Magritte_La-Condition-humaine.jpg
END:VEVENT
END:VCALENDAR