BEGIN:VCALENDAR
VERSION:2.0
PRODID:-//Simon Parcot - ECPv6.15.20//NONSGML v1.0//EN
CALSCALE:GREGORIAN
METHOD:PUBLISH
X-WR-CALNAME:Simon Parcot
X-ORIGINAL-URL:https://randosphilos.fr
X-WR-CALDESC:Évènements pour Simon Parcot
REFRESH-INTERVAL;VALUE=DURATION:PT1H
X-Robots-Tag:noindex
X-PUBLISHED-TTL:PT1H
BEGIN:VTIMEZONE
TZID:Europe/Zurich
BEGIN:DAYLIGHT
TZOFFSETFROM:+0100
TZOFFSETTO:+0200
TZNAME:CEST
DTSTART:20200329T010000
END:DAYLIGHT
BEGIN:STANDARD
TZOFFSETFROM:+0200
TZOFFSETTO:+0100
TZNAME:CET
DTSTART:20201025T010000
END:STANDARD
BEGIN:DAYLIGHT
TZOFFSETFROM:+0100
TZOFFSETTO:+0200
TZNAME:CEST
DTSTART:20210328T010000
END:DAYLIGHT
BEGIN:STANDARD
TZOFFSETFROM:+0200
TZOFFSETTO:+0100
TZNAME:CET
DTSTART:20211031T010000
END:STANDARD
BEGIN:DAYLIGHT
TZOFFSETFROM:+0100
TZOFFSETTO:+0200
TZNAME:CEST
DTSTART:20220327T010000
END:DAYLIGHT
BEGIN:STANDARD
TZOFFSETFROM:+0200
TZOFFSETTO:+0100
TZNAME:CET
DTSTART:20221030T010000
END:STANDARD
END:VTIMEZONE
BEGIN:VEVENT
DTSTART;TZID=Europe/Zurich:20210529T150000
DTEND;TZID=Europe/Zurich:20210529T173000
DTSTAMP:20260421T084638
CREATED:20210423T151244Z
LAST-MODIFIED:20210504T100300Z
UID:30048-1622300400-1622309400@randosphilos.fr
SUMMARY:La nature vue d'ailleurs (cycle nantais\, III)
DESCRIPTION:Les randos-philo migrent à l’Ouest ! \nAllons traquer l’idée de nature en terrain nantais\, sur les bords de l’Erdre ! Pendant le temps d’une promenade\, nous quitterons le Vieux Continent par la pensée pour rejoindre l’Amazonie et le peuple Achuar. Là-bas\, nous rencontrerons un philosophe amérindien qui nous exposera une perception de la Nature qui remettra radicalement en cause notre propre manière de la concevoir et d’être en relation avec elle. Émerveillement et vertige assurés ! Promenade à l’initiative de l’équipe de Belle de Jour ! (https://www.belledejour.org/) \nLieu de départ : cercle de l’Aviron nantais (20 Rue d’Alsace\, 44000 Nantes) \nLieu de fin : Bar Belle de Jour (4 Place du 51e Régiment d’Artillerie) \nPrix : 20€/personne (règlement sur place) \nA partir de 12 ans \nRésas au : 06 47 53 88 55 \n 
URL:https://randosphilos.fr/agenda/la-nature-vue-dailleurs-cycle-nantais-iii/
ATTACH;FMTTYPE=image/jpeg:https://randosphilos.fr/wp-content/uploads/2021/04/ERDRE-PLaton-et-Aristote.jpg
END:VEVENT
END:VCALENDAR