BEGIN:VCALENDAR
VERSION:2.0
PRODID:-//Simon Parcot - ECPv6.15.20//NONSGML v1.0//EN
CALSCALE:GREGORIAN
METHOD:PUBLISH
X-ORIGINAL-URL:https://randosphilos.fr
X-WR-CALDESC:Évènements pour Simon Parcot
REFRESH-INTERVAL;VALUE=DURATION:PT1H
X-Robots-Tag:noindex
X-PUBLISHED-TTL:PT1H
BEGIN:VTIMEZONE
TZID:Europe/Zurich
BEGIN:DAYLIGHT
TZOFFSETFROM:+0100
TZOFFSETTO:+0200
TZNAME:CEST
DTSTART:20200329T010000
END:DAYLIGHT
BEGIN:STANDARD
TZOFFSETFROM:+0200
TZOFFSETTO:+0100
TZNAME:CET
DTSTART:20201025T010000
END:STANDARD
BEGIN:DAYLIGHT
TZOFFSETFROM:+0100
TZOFFSETTO:+0200
TZNAME:CEST
DTSTART:20210328T010000
END:DAYLIGHT
BEGIN:STANDARD
TZOFFSETFROM:+0200
TZOFFSETTO:+0100
TZNAME:CET
DTSTART:20211031T010000
END:STANDARD
BEGIN:DAYLIGHT
TZOFFSETFROM:+0100
TZOFFSETTO:+0200
TZNAME:CEST
DTSTART:20220327T010000
END:DAYLIGHT
BEGIN:STANDARD
TZOFFSETFROM:+0200
TZOFFSETTO:+0100
TZNAME:CET
DTSTART:20221030T010000
END:STANDARD
END:VTIMEZONE
BEGIN:VEVENT
DTSTART;TZID=Europe/Zurich:20210222T130000
DTEND;TZID=Europe/Zurich:20210222T153000
DTSTAMP:20260421T201558
CREATED:20210215T165801Z
LAST-MODIFIED:20210215T171517Z
UID:29990-1613998800-1614007800@randosphilos.fr
SUMMARY:Pourquoi grimper sur les montagnes ? (cycle Oisans - promenade II)
DESCRIPTION:Pourquoi grimper sur les montagnes ? Petite philo joyeuse des pratiques ascensionnelles (spéciale Oisans) \n« Because they are here » répondit sobrement George Mallory lorsqu’on lui demanda. Heureusement\, nous n’en resterons pas à la platitude océanique de la réponse de l’alpiniste anglais : en profitant d’une belle vue sur les hauts sommets de l’Oisans\, on se demandera pourquoi l’homo alpinus se donne tant de mal à gravir ces tas de roches qu’on appelle montagnes : par goût de l’effort ? Parce qu’il.elle n’a pas d’autres choix ? Par amour du danger ? Pour des raisons esthétiques ? Que cherche t-il.elle ? Une intensification de l’existence ? Une présence au monde décuplée ? Un dépassement de soi ? Un peu de hauteur sur sa vie ? Pour y répondre\, nous formerons une cordée fictive à laquelle s’ajouteront quatre grimpeurs.es imaginaires qui viendront illustrer les différentes motivations des conquérant.es de l’inutile » \nGratuit (offert par la bibliothèque) \nA partir de 10 ans \nBallade très accessible \nRéservations obligatoires au 04 76 80 56 64
URL:https://randosphilos.fr/agenda/pourquoi-grimper-sur-les-montagnes-speciale-oisans-2/
LOCATION:Venosc village 38520 (bibliothèque)
ATTACH;FMTTYPE=image/jpeg:https://randosphilos.fr/wp-content/uploads/2021/02/Moi-Muzelle.jpg
END:VEVENT
END:VCALENDAR