BEGIN:VCALENDAR
VERSION:2.0
PRODID:-//Simon Parcot - ECPv6.15.20//NONSGML v1.0//EN
CALSCALE:GREGORIAN
METHOD:PUBLISH
X-ORIGINAL-URL:https://randosphilos.fr
X-WR-CALDESC:Évènements pour Simon Parcot
REFRESH-INTERVAL;VALUE=DURATION:PT1H
X-Robots-Tag:noindex
X-PUBLISHED-TTL:PT1H
BEGIN:VTIMEZONE
TZID:Europe/Zurich
BEGIN:DAYLIGHT
TZOFFSETFROM:+0100
TZOFFSETTO:+0200
TZNAME:CEST
DTSTART:20200329T010000
END:DAYLIGHT
BEGIN:STANDARD
TZOFFSETFROM:+0200
TZOFFSETTO:+0100
TZNAME:CET
DTSTART:20201025T010000
END:STANDARD
BEGIN:DAYLIGHT
TZOFFSETFROM:+0100
TZOFFSETTO:+0200
TZNAME:CEST
DTSTART:20210328T010000
END:DAYLIGHT
BEGIN:STANDARD
TZOFFSETFROM:+0200
TZOFFSETTO:+0100
TZNAME:CET
DTSTART:20211031T010000
END:STANDARD
BEGIN:DAYLIGHT
TZOFFSETFROM:+0100
TZOFFSETTO:+0200
TZNAME:CEST
DTSTART:20220327T010000
END:DAYLIGHT
BEGIN:STANDARD
TZOFFSETFROM:+0200
TZOFFSETTO:+0100
TZNAME:CET
DTSTART:20221030T010000
END:STANDARD
END:VTIMEZONE
BEGIN:VEVENT
DTSTART;TZID=Europe/Zurich:20210215T130000
DTEND;TZID=Europe/Zurich:20210215T153000
DTSTAMP:20260421T215714
CREATED:20210116T110857Z
LAST-MODIFIED:20210204T181938Z
UID:29400-1613394000-1613403000@randosphilos.fr
SUMMARY:Pourquoi grimpons nous sur les montagnes ?
DESCRIPTION:« Because they are here » répondit sobrement George Mallory lorsqu’on lui demanda. Heureusement\, nous n’en resterons pas à la platitude océanique de la réponse de l’alpiniste anglais : en profitant d’une belle vue sur les sommets\, on se demandera pourquoi l’homo alpinus se donne tant de mal à gravir ces tas de roches qu’on appelle montagnes : par goût de l’effort ? Parce qu’il.elle n’a pas d’autres choix ? Par amour du danger ? Pour des raisons esthétiques ? Que cherche t-il.elle ? Une intensification de l’existence ? Une présence au monde décuplée ? Un dépassement de soi ? Un peu de hauteur sur sa vie ? Pour y répondre\, nous formerons une cordée fictive à laquelle s’ajouteront quatre grimpeur.es imaginaires qui viendront illustrer les différentes motivations des conquérant.es de l’inutile ». \nRéservations au 04 76 80 56 64 \n 
URL:https://randosphilos.fr/agenda/pourquoi-grimpons-nous-sur-les-montagnes/
LOCATION:Venosc\, Bibliothèque\, 38520
CATEGORIES:Randos-philo
ATTACH;FMTTYPE=image/jpeg:https://randosphilos.fr/wp-content/uploads/2021/01/image-projet-4_.jpg
END:VEVENT
END:VCALENDAR